BEGIN:VCALENDAR
VERSION:2.0
PRODID:-//wp-events-plugin.com//7.2.3.1//EN
BEGIN:VEVENT
UID:135@dubaiautodrome.ae
DTSTART:20240916T200000Z
DTEND:20240916T220000Z
DTSTAMP:20240723T113429Z
URL:https://dubaiautodrome.ae/whats-on/karting-sws-masters-100-4/
SUMMARY:Karting - SWS Masters 100
DESCRIPTION:
END:VEVENT
END:VCALENDAR